BEGIN:VCALENDAR
VERSION:2.0
PRODID:icalendar-ruby
CALSCALE:GREGORIAN
BEGIN:VEVENT
DTSTAMP:20260424T162241Z
UID:18529768-d93a-49ac-b202-cfb246010228
DTSTART:20260219T010000Z
DTEND:20260219T060001Z
SUMMARY:Whānau Kōrero
END:VEVENT
END:VCALENDAR
