BEGIN:VCALENDAR
VERSION:2.0
PRODID:icalendar-ruby
CALSCALE:GREGORIAN
BEGIN:VEVENT
DTSTAMP:20260424T162302Z
UID:6fbb7332-1781-4a60-8614-af27e7c766a6
DTSTART;VALUE=DATE:20260219
DTEND;VALUE=DATE:20260220
DESCRIPTION:Buses & have been advised\nFunzone is available for bookings
SUMMARY:School closes at 12.50pm
END:VEVENT
END:VCALENDAR
