BEGIN:VCALENDAR
VERSION:2.0
PRODID:icalendar-ruby
CALSCALE:GREGORIAN
BEGIN:VEVENT
DTSTAMP:20260424T162413Z
UID:91bda49a-9bc4-4363-8c56-e1d36c2323a3
DTSTART;VALUE=DATE:20260212
DTEND;VALUE=DATE:20260213
SUMMARY:Vision & Hearing Testing for new pupils
END:VEVENT
END:VCALENDAR
