BEGIN:VCALENDAR
VERSION:2.0
PRODID:icalendar-ruby
CALSCALE:GREGORIAN
BEGIN:VEVENT
DTSTAMP:20260424T162302Z
UID:d16bedd6-a591-41ab-9a9c-6b5ce16fa837
DTSTART;VALUE=DATE:20260212
DTEND;VALUE=DATE:20260213
SUMMARY:Year 7 Immunisation Talk
END:VEVENT
END:VCALENDAR
