BEGIN:VCALENDAR
VERSION:2.0
PRODID:icalendar-ruby
CALSCALE:GREGORIAN
BEGIN:VEVENT
DTSTAMP:20260424T162333Z
UID:1d32cb9c-e09c-4099-af75-1924f29f7ef4
DTSTART;VALUE=DATE:20260226
DTEND;VALUE=DATE:20260227
SUMMARY:Swimming Sports
END:VEVENT
END:VCALENDAR
