BEGIN:VCALENDAR
VERSION:2.0
PRODID:icalendar-ruby
CALSCALE:GREGORIAN
BEGIN:VEVENT
DTSTAMP:20260424T162333Z
UID:29750705-c541-405d-a946-69363dfc2395
DTSTART;VALUE=DATE:20260305
DTEND;VALUE=DATE:20260306
SUMMARY:Whānau Day
END:VEVENT
END:VCALENDAR
